BEGIN:VCALENDAR
VERSION:2.0
PRODID:icalendar-ruby
CALSCALE:GREGORIAN
X-WR-TIMEZONE:Europe/Helsinki
BEGIN:VTIMEZONE
TZID:Europe/Helsinki
BEGIN:DAYLIGHT
DTSTART:20260329T040000
TZOFFSETFROM:+0200
TZOFFSETTO:+0300
RRULE:FREQ=YEARLY;BYDAY=-1SU;BYMONTH=3
TZNAME:EEST
END:DAYLIGHT
BEGIN:STANDARD
DTSTART:20261025T030000
TZOFFSETFROM:+0300
TZOFFSETTO:+0200
RRULE:FREQ=YEARLY;BYDAY=-1SU;BYMONTH=10
TZNAME:EET
END:STANDARD
END:VTIMEZONE
BEGIN:VEVENT
DTSTAMP:20260421T193655
UID:welhot.myclub.fi-7847485
DTSTART;TZID=Europe/Helsinki:20241012T183000
DTEND;TZID=Europe/Helsinki:20241012T203000
DESCRIPTION:Liput ovelta 12/10/5\n\nhttps://welhot.myclub.fi/flow/events/78
 47485
LOCATION:Lippumäen liikuntahalli\, Petosentie 8\, 70820 Kuopio
SEQUENCE:0
SUMMARY:Miesten edustus: Suomisarja: Welhot - Josba Akatemia
URL;VALUE=URI:https://welhot.myclub.fi/flow/events/7847485
END:VEVENT
END:VCALENDAR
